BEGIN:VCALENDAR
VERSION:2.0
PRODID:Events Booking
BEGIN:VEVENT
UID:69e819341d2d2
SUMMARY:Allround-Vorbereitungskurs 2025
DESCRIPTION:Allround Vorbereitungskurs
LOCATION:Fürnbergstraße\, Gemeinde Melk\, 3390 Niederösterreich\, Öster
 reich
DTSTART:20250630T153000Z
DTEND:20250704T163000Z
DTSTAMP:20240403T025414Z
ORGANIZER;CN=Schwimmunion Melk:MAILTO:office@schwimmunion-melk.at
GEO:48.224871;15.346534
X-APPLE-STRUCTURED-LOCATION;VALUE=URI;X-ADDRESS=Fürnbergstraße\, Gemeinde
  Melk\, 3390 Niederösterreich\, Österreich;X-APPLE-RADIUS=72;X-TITLE=Wac
 haubad Melk:48.224871;15.346534
END:VEVENT
BEGIN:VEVENT
UID:69e819341d522
SUMMARY:Kinder-/Jugendtraining 8-14 
DESCRIPTION:kein Anfängertraining
LOCATION:Fürnbergstraße\, Gemeinde Melk\, 3390 Niederösterreich\, Öster
 reich
DTSTART:20250716T160000Z
DTEND:20250716T170000Z
DTSTAMP:20240419T050216Z
ORGANIZER;CN=Schwimmunion Melk:MAILTO:office@schwimmunion-melk.at
GEO:48.224871;15.346534
X-APPLE-STRUCTURED-LOCATION;VALUE=URI;X-ADDRESS=Fürnbergstraße\, Gemeinde
  Melk\, 3390 Niederösterreich\, Österreich;X-APPLE-RADIUS=72;X-TITLE=Wac
 haubad Melk:48.224871;15.346534
END:VEVENT
BEGIN:VEVENT
UID:69e819341d555
SUMMARY:Erwachsenentraining
DESCRIPTION:
LOCATION:Fürnbergstraße\, Gemeinde Melk\, 3390 Niederösterreich\, Öster
 reich
DTSTART:20250716T160000Z
DTEND:20250716T170000Z
DTSTAMP:20240419T050216Z
ORGANIZER;CN=Schwimmunion Melk:MAILTO:office@schwimmunion-melk.at
GEO:48.224871;15.346534
X-APPLE-STRUCTURED-LOCATION;VALUE=URI;X-ADDRESS=Fürnbergstraße\, Gemeinde
  Melk\, 3390 Niederösterreich\, Österreich;X-APPLE-RADIUS=72;X-TITLE=Wac
 haubad Melk:48.224871;15.346534
END:VEVENT
BEGIN:VEVENT
UID:69e819341d574
SUMMARY:Kinder-/Jugendtraining 8-14 
DESCRIPTION:kein Anfängertraining
LOCATION:Fürnbergstraße\, Gemeinde Melk\, 3390 Niederösterreich\, Öster
 reich
DTSTART:20250723T160000Z
DTEND:20250723T170000Z
DTSTAMP:20240419T050216Z
ORGANIZER;CN=Schwimmunion Melk:MAILTO:office@schwimmunion-melk.at
GEO:48.224871;15.346534
X-APPLE-STRUCTURED-LOCATION;VALUE=URI;X-ADDRESS=Fürnbergstraße\, Gemeinde
  Melk\, 3390 Niederösterreich\, Österreich;X-APPLE-RADIUS=72;X-TITLE=Wac
 haubad Melk:48.224871;15.346534
END:VEVENT
BEGIN:VEVENT
UID:69e819341d599
SUMMARY:Erwachsenentraining
DESCRIPTION:
LOCATION:Fürnbergstraße\, Gemeinde Melk\, 3390 Niederösterreich\, Öster
 reich
DTSTART:20250723T160000Z
DTEND:20250723T170000Z
DTSTAMP:20240419T050216Z
ORGANIZER;CN=Schwimmunion Melk:MAILTO:office@schwimmunion-melk.at
GEO:48.224871;15.346534
X-APPLE-STRUCTURED-LOCATION;VALUE=URI;X-ADDRESS=Fürnbergstraße\, Gemeinde
  Melk\, 3390 Niederösterreich\, Österreich;X-APPLE-RADIUS=72;X-TITLE=Wac
 haubad Melk:48.224871;15.346534
END:VEVENT
BEGIN:VEVENT
UID:69e819341d5b4
SUMMARY:Erwachsenentraining
DESCRIPTION:
LOCATION:Fürnbergstraße\, Gemeinde Melk\, 3390 Niederösterreich\, Öster
 reich
DTSTART:20250730T160000Z
DTEND:20250730T170000Z
DTSTAMP:20240419T050216Z
ORGANIZER;CN=Schwimmunion Melk:MAILTO:office@schwimmunion-melk.at
GEO:48.224871;15.346534
X-APPLE-STRUCTURED-LOCATION;VALUE=URI;X-ADDRESS=Fürnbergstraße\, Gemeinde
  Melk\, 3390 Niederösterreich\, Österreich;X-APPLE-RADIUS=72;X-TITLE=Wac
 haubad Melk:48.224871;15.346534
END:VEVENT
BEGIN:VEVENT
UID:69e819341d5d6
SUMMARY:Kinder-/Jugendtraining 8-14 
DESCRIPTION:kein Anfängertraining
LOCATION:Fürnbergstraße\, Gemeinde Melk\, 3390 Niederösterreich\, Öster
 reich
DTSTART:20250730T160000Z
DTEND:20250730T170000Z
DTSTAMP:20240419T050216Z
ORGANIZER;CN=Schwimmunion Melk:MAILTO:office@schwimmunion-melk.at
GEO:48.224871;15.346534
X-APPLE-STRUCTURED-LOCATION;VALUE=URI;X-ADDRESS=Fürnbergstraße\, Gemeinde
  Melk\, 3390 Niederösterreich\, Österreich;X-APPLE-RADIUS=72;X-TITLE=Wac
 haubad Melk:48.224871;15.346534
END:VEVENT
BEGIN:VEVENT
UID:69e819341d5f0
SUMMARY:Erwachsenentraining
DESCRIPTION:
LOCATION:Fürnbergstraße\, Gemeinde Melk\, 3390 Niederösterreich\, Öster
 reich
DTSTART:20250806T160000Z
DTEND:20250806T170000Z
DTSTAMP:20240419T050216Z
ORGANIZER;CN=Schwimmunion Melk:MAILTO:office@schwimmunion-melk.at
GEO:48.224871;15.346534
X-APPLE-STRUCTURED-LOCATION;VALUE=URI;X-ADDRESS=Fürnbergstraße\, Gemeinde
  Melk\, 3390 Niederösterreich\, Österreich;X-APPLE-RADIUS=72;X-TITLE=Wac
 haubad Melk:48.224871;15.346534
END:VEVENT
BEGIN:VEVENT
UID:69e819341d612
SUMMARY:Kinder-/Jugendtraining 8-14 
DESCRIPTION:kein Anfängertraining
LOCATION:Fürnbergstraße\, Gemeinde Melk\, 3390 Niederösterreich\, Öster
 reich
DTSTART:20250806T160000Z
DTEND:20250806T170000Z
DTSTAMP:20240419T050216Z
ORGANIZER;CN=Schwimmunion Melk:MAILTO:office@schwimmunion-melk.at
GEO:48.224871;15.346534
X-APPLE-STRUCTURED-LOCATION;VALUE=URI;X-ADDRESS=Fürnbergstraße\, Gemeinde
  Melk\, 3390 Niederösterreich\, Österreich;X-APPLE-RADIUS=72;X-TITLE=Wac
 haubad Melk:48.224871;15.346534
END:VEVENT
BEGIN:VEVENT
UID:69e819341d62d
SUMMARY:Kinder-/Jugendtraining 8-14 
DESCRIPTION:kein Anfängertraining
LOCATION:Fürnbergstraße\, Gemeinde Melk\, 3390 Niederösterreich\, Öster
 reich
DTSTART:20250813T160000Z
DTEND:20250813T170000Z
DTSTAMP:20240419T050216Z
ORGANIZER;CN=Schwimmunion Melk:MAILTO:office@schwimmunion-melk.at
GEO:48.224871;15.346534
X-APPLE-STRUCTURED-LOCATION;VALUE=URI;X-ADDRESS=Fürnbergstraße\, Gemeinde
  Melk\, 3390 Niederösterreich\, Österreich;X-APPLE-RADIUS=72;X-TITLE=Wac
 haubad Melk:48.224871;15.346534
END:VEVENT
BEGIN:VEVENT
UID:69e819341d64e
SUMMARY:Erwachsenentraining
DESCRIPTION:
LOCATION:Fürnbergstraße\, Gemeinde Melk\, 3390 Niederösterreich\, Öster
 reich
DTSTART:20250813T160000Z
DTEND:20250813T170000Z
DTSTAMP:20240419T050216Z
ORGANIZER;CN=Schwimmunion Melk:MAILTO:office@schwimmunion-melk.at
GEO:48.224871;15.346534
X-APPLE-STRUCTURED-LOCATION;VALUE=URI;X-ADDRESS=Fürnbergstraße\, Gemeinde
  Melk\, 3390 Niederösterreich\, Österreich;X-APPLE-RADIUS=72;X-TITLE=Wac
 haubad Melk:48.224871;15.346534
END:VEVENT
BEGIN:VEVENT
UID:69e819341d66a
SUMMARY:Kinder-/Jugendtraining 8-14 
DESCRIPTION:kein Anfängertraining
LOCATION:Fürnbergstraße\, Gemeinde Melk\, 3390 Niederösterreich\, Öster
 reich
DTSTART:20250820T160000Z
DTEND:20250820T170000Z
DTSTAMP:20240419T050216Z
ORGANIZER;CN=Schwimmunion Melk:MAILTO:office@schwimmunion-melk.at
GEO:48.224871;15.346534
X-APPLE-STRUCTURED-LOCATION;VALUE=URI;X-ADDRESS=Fürnbergstraße\, Gemeinde
  Melk\, 3390 Niederösterreich\, Österreich;X-APPLE-RADIUS=72;X-TITLE=Wac
 haubad Melk:48.224871;15.346534
END:VEVENT
BEGIN:VEVENT
UID:69e819341d68b
SUMMARY:Erwachsenentraining
DESCRIPTION:
LOCATION:Fürnbergstraße\, Gemeinde Melk\, 3390 Niederösterreich\, Öster
 reich
DTSTART:20250820T160000Z
DTEND:20250820T170000Z
DTSTAMP:20240419T050216Z
ORGANIZER;CN=Schwimmunion Melk:MAILTO:office@schwimmunion-melk.at
GEO:48.224871;15.346534
X-APPLE-STRUCTURED-LOCATION;VALUE=URI;X-ADDRESS=Fürnbergstraße\, Gemeinde
  Melk\, 3390 Niederösterreich\, Österreich;X-APPLE-RADIUS=72;X-TITLE=Wac
 haubad Melk:48.224871;15.346534
END:VEVENT
BEGIN:VEVENT
UID:69e819341d6a5
SUMMARY:Kinder-/Jugendtraining 8-14 
DESCRIPTION:kein Anfängertraining
LOCATION:Fürnbergstraße\, Gemeinde Melk\, 3390 Niederösterreich\, Öster
 reich
DTSTART:20250827T160000Z
DTEND:20250827T170000Z
DTSTAMP:20240419T050216Z
ORGANIZER;CN=Schwimmunion Melk:MAILTO:office@schwimmunion-melk.at
GEO:48.224871;15.346534
X-APPLE-STRUCTURED-LOCATION;VALUE=URI;X-ADDRESS=Fürnbergstraße\, Gemeinde
  Melk\, 3390 Niederösterreich\, Österreich;X-APPLE-RADIUS=72;X-TITLE=Wac
 haubad Melk:48.224871;15.346534
END:VEVENT
BEGIN:VEVENT
UID:69e819341d6c6
SUMMARY:Erwachsenentraining
DESCRIPTION:
LOCATION:Fürnbergstraße\, Gemeinde Melk\, 3390 Niederösterreich\, Öster
 reich
DTSTART:20250827T160000Z
DTEND:20250827T170000Z
DTSTAMP:20240419T050216Z
ORGANIZER;CN=Schwimmunion Melk:MAILTO:office@schwimmunion-melk.at
GEO:48.224871;15.346534
X-APPLE-STRUCTURED-LOCATION;VALUE=URI;X-ADDRESS=Fürnbergstraße\, Gemeinde
  Melk\, 3390 Niederösterreich\, Österreich;X-APPLE-RADIUS=72;X-TITLE=Wac
 haubad Melk:48.224871;15.346534
END:VEVENT
BEGIN:VEVENT
UID:69e819341d6e1
SUMMARY:Lagenkurs Erwachsene
DESCRIPTION:Kraul\, Rücken und Brustschwimmen
LOCATION:3390 Melk\, Niederösterreich\, Österreich
DTSTART:20260706T163000Z
DTEND:20260710T173000Z
DTSTAMP:20260322T023234Z
ORGANIZER;CN=Schwimmunion Melk:MAILTO:office@schwimmunion-melk.at
GEO:48.227207;15.336999
X-APPLE-STRUCTURED-LOCATION;VALUE=URI;X-ADDRESS=3390 Melk\, Niederösterrei
 ch\, Österreich;X-APPLE-RADIUS=72;X-TITLE=Melk:48.227207;15.336999
END:VEVENT
BEGIN:VEVENT
UID:69e819341d704
SUMMARY:Erwachsenentraining
DESCRIPTION:Voraussetzung Mitgliedschaft
LOCATION:3390 Melk\, Niederösterreich\, Österreich
DTSTART:20260714T220000Z
DTSTAMP:20260322T021754Z
ORGANIZER;CN=Schwimmunion Melk:MAILTO:office@schwimmunion-melk.at
GEO:48.227207;15.336999
X-APPLE-STRUCTURED-LOCATION;VALUE=URI;X-ADDRESS=3390 Melk\, Niederösterrei
 ch\, Österreich;X-APPLE-RADIUS=72;X-TITLE=Melk:48.227207;15.336999
END:VEVENT
BEGIN:VEVENT
UID:69e819341d71d
SUMMARY:Kinder-/Jugendtraining ab 8 Jahre
DESCRIPTION:Zielgruppe 10-14 Jährige
LOCATION:3390 Melk\, Niederösterreich\, Österreich
DTSTART:20260715T160000Z
DTEND:20261108T140000Z
DTSTAMP:20260322T021149Z
ORGANIZER;CN=Schwimmunion Melk:MAILTO:office@schwimmunion-melk.at
GEO:48.227207;15.336999
X-APPLE-STRUCTURED-LOCATION;VALUE=URI;X-ADDRESS=3390 Melk\, Niederösterrei
 ch\, Österreich;X-APPLE-RADIUS=72;X-TITLE=Melk:48.227207;15.336999
END:VEVENT
END:VCALENDAR